BEGIN:VCALENDAR
VERSION:2.0
PRODID:-//Deben Farm Club - ECPv6.15.16//NONSGML v1.0//EN
CALSCALE:GREGORIAN
METHOD:PUBLISH
X-WR-CALNAME:Deben Farm Club
X-ORIGINAL-URL:http://debenfarmclub.co.uk
X-WR-CALDESC:Events for Deben Farm Club
REFRESH-INTERVAL;VALUE=DURATION:PT1H
X-Robots-Tag:noindex
X-PUBLISHED-TTL:PT1H
BEGIN:VTIMEZONE
TZID:Europe/London
BEGIN:DAYLIGHT
TZOFFSETFROM:+0000
TZOFFSETTO:+0100
TZNAME:BST
DTSTART:20160327T010000
END:DAYLIGHT
BEGIN:STANDARD
TZOFFSETFROM:+0100
TZOFFSETTO:+0000
TZNAME:GMT
DTSTART:20161030T010000
END:STANDARD
BEGIN:DAYLIGHT
TZOFFSETFROM:+0000
TZOFFSETTO:+0100
TZNAME:BST
DTSTART:20170326T010000
END:DAYLIGHT
BEGIN:STANDARD
TZOFFSETFROM:+0100
TZOFFSETTO:+0000
TZNAME:GMT
DTSTART:20171029T010000
END:STANDARD
BEGIN:DAYLIGHT
TZOFFSETFROM:+0000
TZOFFSETTO:+0100
TZNAME:BST
DTSTART:20180325T010000
END:DAYLIGHT
BEGIN:STANDARD
TZOFFSETFROM:+0100
TZOFFSETTO:+0000
TZNAME:GMT
DTSTART:20181028T010000
END:STANDARD
BEGIN:DAYLIGHT
TZOFFSETFROM:+0000
TZOFFSETTO:+0100
TZNAME:BST
DTSTART:20190331T010000
END:DAYLIGHT
BEGIN:STANDARD
TZOFFSETFROM:+0100
TZOFFSETTO:+0000
TZNAME:GMT
DTSTART:20191027T010000
END:STANDARD
END:VTIMEZONE
BEGIN:VEVENT
DTSTART;TZID=Europe/London:20181206T083000
DTEND;TZID=Europe/London:20181206T100000
DTSTAMP:20260421T143844
CREATED:20180913T075809Z
LAST-MODIFIED:20180913T075809Z
UID:296-1544085000-1544090400@debenfarmclub.co.uk
SUMMARY:Farming and Wildlife - Andrew Fearne
DESCRIPTION:Andrew Fearne – Professor of Value Chain Management at UEA Norwich \n“It is not the playing field but the way you play that matters – why ignorance is no longer bliss for UK farmers”. \n“My main areas of research are consumer behaviour\, inter-organisational relationships and value chain analysis”.
URL:http://debenfarmclub.co.uk/event/farming-and-wildlife-andrew-fearne/
LOCATION:To be confirmed
ORGANIZER;CN="Alan Gray":MAILTO:Alan.Gray@originfertilisers.co.uk
END:VEVENT
BEGIN:VEVENT
DTSTART;TZID=Europe/London:20181108T193000
DTEND;TZID=Europe/London:20181108T220000
DTSTAMP:20260421T143844
CREATED:20180718T110947Z
LAST-MODIFIED:20180718T111441Z
UID:270-1541705400-1541714400@debenfarmclub.co.uk
SUMMARY:1st Winter Evening Meeting-Vine House Farm Bird Foods
DESCRIPTION:Here\, Nicholas Watts MBE\, the fourth generation of the family to farm on Deeping Fen\, tells the story of this remarkable farmland landscape\, the conservation methods deployed on his family farm and the birth of a unique bird food business.
URL:http://debenfarmclub.co.uk/event/1st-winter-evening-meeting/
LOCATION:To be confirmed
END:VEVENT
BEGIN:VEVENT
DTSTART;TZID=Europe/London:20180607T164500
DTEND;TZID=Europe/London:20180607T235900
DTSTAMP:20260421T143844
CREATED:20180502T160541Z
LAST-MODIFIED:20180615T121251Z
UID:219-1528389900-1528415940@debenfarmclub.co.uk
SUMMARY:Annual Farm Walk and BBQ
DESCRIPTION:
URL:http://debenfarmclub.co.uk/event/annual-farm-walk-and-bbq/
LOCATION:Frederick Hiam Ltd\, Brick Kiln Farm\, Brandon\, IP27 0SE\, United Kingdom
ORGANIZER;CN="Alan Gray":MAILTO:Alan.Gray@originfertilisers.co.uk
END:VEVENT
BEGIN:VEVENT
DTSTART;TZID=Europe/London:20180521T100000
DTEND;TZID=Europe/London:20180521T160000
DTSTAMP:20260421T143844
CREATED:20180502T160402Z
LAST-MODIFIED:20180502T160926Z
UID:215-1526896800-1526918400@debenfarmclub.co.uk
SUMMARY:Non Farming visit to Recycling and Engergy from Waste site at Great Blakenham
DESCRIPTION:
URL:http://debenfarmclub.co.uk/event/non-farming-visit-to-recycling-and-engergy-from-waste-site-at-great-blakenham/
LOCATION:Energy from waste\, Great Blakenham\, IP6 0JE\, United Kingdom
ORGANIZER;CN="Alan Gray":MAILTO:Alan.Gray@originfertilisers.co.uk
END:VEVENT
BEGIN:VEVENT
DTSTART;TZID=Europe/London:20171109T193000
DTEND;TZID=Europe/London:20171109T213000
DTSTAMP:20260421T143844
CREATED:20180502T160013Z
LAST-MODIFIED:20180502T160013Z
UID:212-1510255800-1510263000@debenfarmclub.co.uk
SUMMARY:Mark Ward — Command Pest Control
DESCRIPTION:
URL:http://debenfarmclub.co.uk/event/mark-ward-command-pest-control/
LOCATION:Fram Farmers Office\, Framlingham\, IP13 9EE\, United Kingdom
END:VEVENT
END:VCALENDAR